BEGIN:VCALENDAR
CALSCALE:GREGORIAN
PRODID:-//Ben Fortuna//iCal4j 1.0//EN
VERSION:2.0
BEGIN:VEVENT
DTSTAMP:20260127T160015Z
DTSTART:20260128T151500
DTEND:20260128T171500
SUMMARY:Child Care in Rural Vermont\n\nWitness TBA\, Building Bright Futu
 res - Invited\n\nWitness TBA\, Agency of Human Services - Invited - Room
  28
TZID:America/New_York
UID:20260127T160055Z-uidGen@richgoldman-357e73
END:VEVENT
BEGIN:VALARM
TRIGGER:-PT15M
ACTION:DISPLAY
DESCRIPTION:Child Care in Rural Vermont\n\nWitness TBA\, Building Bright 
 Futures - Invited\n\nWitness TBA\, Agency of Human Services - Invited - 
 Room 28
END:VALARM
END:VCALENDAR
