BEGIN:VCALENDAR
CALSCALE:GREGORIAN
PRODID:-//Ben Fortuna//iCal4j 1.0//EN
VERSION:2.0
BEGIN:VEVENT
DTSTAMP:20260127T170014Z
DTSTART:20260128T151500
DTEND:20260128T171500
SUMMARY:TBA\n\nWitness TBA\, Building Bright Futures - Invited\n\nWitness
  TBA\, Agency of Human Services - Invited\n\nWitness TBA\, Let's Grow Ki
 ds Action Network - Invited - Room 28
TZID:America/New_York
UID:20260127T170052Z-uidGen@richgoldman-357e73
END:VEVENT
BEGIN:VALARM
TRIGGER:-PT15M
ACTION:DISPLAY
DESCRIPTION:TBA\n\nWitness TBA\, Building Bright Futures - Invited\n\nWit
 ness TBA\, Agency of Human Services - Invited\n\nWitness TBA\, Let's Gro
 w Kids Action Network - Invited - Room 28
END:VALARM
END:VCALENDAR
