BEGIN:VCALENDAR
CALSCALE:GREGORIAN
PRODID:-//Ben Fortuna//iCal4j 1.0//EN
VERSION:2.0
BEGIN:VEVENT
DTSTAMP:20260127T210013Z
DTSTART:20260128T151500
DTEND:20260128T171500
SUMMARY:Child Care in Rural Vermont\n\nJanet McLaughlin\, Deputy Commissi
 oner\, Child Development Division\, Department for Children and Families
 \n\nAly Richards\, Board Chair\, Let's Grow Kids Action Network\n\nMorga
 n Crossman\, Ph.D.\, Executive Director\, Building Bright Futures - Invi
 ted - Room 28
TZID:America/New_York
UID:20260127T210044Z-uidGen@richgoldman-357e73
END:VEVENT
BEGIN:VALARM
TRIGGER:-PT15M
ACTION:DISPLAY
DESCRIPTION:Child Care in Rural Vermont\n\nJanet McLaughlin\, Deputy Comm
 issioner\, Child Development Division\, Department for Children and Fami
 lies\n\nAly Richards\, Board Chair\, Let's Grow Kids Action Network\n\nM
 organ Crossman\, Ph.D.\, Executive Director\, Building Bright Futures - 
 Invited - Room 28
END:VALARM
END:VCALENDAR
