BEGIN:VCALENDAR
CALSCALE:GREGORIAN
PRODID:-//Ben Fortuna//iCal4j 1.0//EN
VERSION:2.0
BEGIN:VEVENT
DTSTAMP:20260127T200014Z
DTSTART:20260128T150000
DTEND:20260128T170000
SUMMARY:H. 750 - An act relating to school districts pursuing school cons
 truction projects during the moratorium on State aid\n\nIntroduction and
  walk-through\n\nRep. Charles Kimbell\, Representative\, Bill Sponsor - 
 Invited\n\nJon Gray\, Legislative Counsel\, Office of Legislative Counse
 l - Invited - Room M103
TZID:America/New_York
UID:20260127T200101Z-uidGen@richgoldman-357e73
END:VEVENT
BEGIN:VALARM
TRIGGER:-PT15M
ACTION:DISPLAY
DESCRIPTION:H. 750 - An act relating to school districts pursuing school 
 construction projects during the moratorium on State aid\n\nIntroduction
  and walk-through\n\nRep. Charles Kimbell\, Representative\, Bill Sponso
 r - Invited\n\nJon Gray\, Legislative Counsel\, Office of Legislative Co
 unsel - Invited - Room M103
END:VALARM
END:VCALENDAR
