BEGIN:VCALENDAR
CALSCALE:GREGORIAN
PRODID:-//Ben Fortuna//iCal4j 1.0//EN
VERSION:2.0
BEGIN:VEVENT
DTSTAMP:20260127T230013Z
DTSTART:20260128T150000
DTEND:20260128T170000
SUMMARY:Committee Bill\n\nTim Devlin\, Legislative Counsel\, Office of Le
 gislative Counsel\n\nSen. Tanya Vyhovsky\, Senate Committee on Governmen
 t Operations - Room 4
TZID:America/New_York
UID:20260127T230051Z-uidGen@richgoldman-357e73
END:VEVENT
BEGIN:VALARM
TRIGGER:-PT15M
ACTION:DISPLAY
DESCRIPTION:Committee Bill\n\nTim Devlin\, Legislative Counsel\, Office o
 f Legislative Counsel\n\nSen. Tanya Vyhovsky\, Senate Committee on Gover
 nment Operations - Room 4
END:VALARM
END:VCALENDAR
