BEGIN:VCALENDAR
CALSCALE:GREGORIAN
PRODID:-//Ben Fortuna//iCal4j 1.0//EN
VERSION:2.0
BEGIN:VEVENT
DTSTAMP:20260128T170014Z
DTSTART:20260128T150000
DTEND:20260128T170000
SUMMARY:Government Accountability Committee Bill\n\nTim Devlin\, Legislat
 ive Counsel\, Office of Legislative Counsel\n\nSen. Tanya Vyhovsky\, Sen
 ate Committee on Government Operations - Room 4
TZID:America/New_York
UID:20260128T170045Z-uidGen@richgoldman-357e73
END:VEVENT
BEGIN:VALARM
TRIGGER:-PT15M
ACTION:DISPLAY
DESCRIPTION:Government Accountability Committee Bill\n\nTim Devlin\, Legi
 slative Counsel\, Office of Legislative Counsel\n\nSen. Tanya Vyhovsky\,
  Senate Committee on Government Operations - Room 4
END:VALARM
END:VCALENDAR
