BEGIN:VCALENDAR
CALSCALE:GREGORIAN
PRODID:-//Ben Fortuna//iCal4j 1.0//EN
VERSION:2.0
BEGIN:VEVENT
DTSTAMP:20260127T200014Z
DTSTART:20260128T150000
DTEND:20260128T170000
SUMMARY:Property Tax Impacts\n\nWitness Testimony\n\nTina Muncy\, Taxpaye
 r - Invited\n\n" - Room 6
TZID:America/New_York
UID:20260127T200103Z-uidGen@richgoldman-357e73
END:VEVENT
BEGIN:VALARM
TRIGGER:-PT15M
ACTION:DISPLAY
DESCRIPTION:Property Tax Impacts\n\nWitness Testimony\n\nTina Muncy\, Tax
 payer - Invited\n\n" - Room 6
END:VALARM
END:VCALENDAR
