BEGIN:VCALENDAR
CALSCALE:GREGORIAN
PRODID:-//Ben Fortuna//iCal4j 1.0//EN
VERSION:2.0
BEGIN:VEVENT
DTSTAMP:20260127T160015Z
DTSTART:20260128T144500
DTEND:20260128T164500
SUMMARY:Budget Buddies\n\nCommittee discussion - Room M106
TZID:America/New_York
UID:20260127T160054Z-uidGen@richgoldman-357e73
END:VEVENT
BEGIN:VALARM
TRIGGER:-PT15M
ACTION:DISPLAY
DESCRIPTION:Budget Buddies\n\nCommittee discussion - Room M106
END:VALARM
END:VCALENDAR
