BEGIN:VCALENDAR
CALSCALE:GREGORIAN
PRODID:-//Ben Fortuna//iCal4j 1.0//EN
VERSION:2.0
BEGIN:VEVENT
DTSTAMP:20260125T060514Z
DTSTART:20260128T144500
DTEND:20260128T164500
SUMMARY:Income Sensitivity and Education Taxes\n\nWitness Testimony\n\nKa
 ren Lafayette\, Lobbyist - Room 6
TZID:America/New_York
UID:20260125T061314Z-uidGen@richgoldman-357e73
END:VEVENT
BEGIN:VALARM
TRIGGER:-PT15M
ACTION:DISPLAY
DESCRIPTION:Income Sensitivity and Education Taxes\n\nWitness Testimony\n
 \nKaren Lafayette\, Lobbyist - Room 6
END:VALARM
END:VCALENDAR
