BEGIN:VCALENDAR
CALSCALE:GREGORIAN
PRODID:-//Ben Fortuna//iCal4j 1.0//EN
VERSION:2.0
BEGIN:VEVENT
DTSTAMP:20260125T060514Z
DTSTART:20260128T143000
DTEND:20260128T163000
SUMMARY:H. 276 - An act relating to the designation of State wildlands\n\
 nRick Enser\, Conservation Biologist - Invited - Room EA
TZID:America/New_York
UID:20260125T061305Z-uidGen@richgoldman-357e73
END:VEVENT
BEGIN:VALARM
TRIGGER:-PT15M
ACTION:DISPLAY
DESCRIPTION:H. 276 - An act relating to the designation of State wildland
 s\n\nRick Enser\, Conservation Biologist - Invited - Room EA
END:VALARM
END:VCALENDAR
