BEGIN:VCALENDAR
CALSCALE:GREGORIAN
PRODID:-//Ben Fortuna//iCal4j 1.0//EN
VERSION:2.0
BEGIN:VEVENT
DTSTAMP:20260126T150030Z
DTSTART:20260128T143000
DTEND:20260128T163000
SUMMARY:H. 542 - An act relating to terminating testing of schools in Ver
 mont for polychlorinated biphenyls\n\nMatt Chapman\, Director\, Waste Ma
 nagement & Prevention Division\, Department of Environmental Conservatio
 n\n\nTrish Coppolino\, Senior Environmental Program Manager\, Department
  of Environmental Conservation\, Agency of Natural Resources - Room M103
 
TZID:America/New_York
UID:20260126T150042Z-uidGen@richgoldman-357e73
END:VEVENT
BEGIN:VALARM
TRIGGER:-PT15M
ACTION:DISPLAY
DESCRIPTION:H. 542 - An act relating to terminating testing of schools in
  Vermont for polychlorinated biphenyls\n\nMatt Chapman\, Director\, Wast
 e Management & Prevention Division\, Department of Environmental Conserv
 ation\n\nTrish Coppolino\, Senior Environmental Program Manager\, Depart
 ment of Environmental Conservation\, Agency of Natural Resources - Room 
 M103
END:VALARM
END:VCALENDAR
