BEGIN:VCALENDAR
CALSCALE:GREGORIAN
PRODID:-//Ben Fortuna//iCal4j 1.0//EN
VERSION:2.0
BEGIN:VEVENT
DTSTAMP:20260125T060514Z
DTSTART:20260128T143000
DTEND:20260128T163000
SUMMARY:Budget Buddies\n\nCommittee discussion - Room M106
TZID:America/New_York
UID:20260125T061306Z-uidGen@richgoldman-357e73
END:VEVENT
BEGIN:VALARM
TRIGGER:-PT15M
ACTION:DISPLAY
DESCRIPTION:Budget Buddies\n\nCommittee discussion - Room M106
END:VALARM
END:VCALENDAR
