BEGIN:VCALENDAR
CALSCALE:GREGORIAN
PRODID:-//Ben Fortuna//iCal4j 1.0//EN
VERSION:2.0
BEGIN:VEVENT
DTSTAMP:20260125T060514Z
DTSTART:20260128T143000
DTEND:20260128T163000
SUMMARY:FY27 Budget\n\nDepartment for Children and Families\n\nSandi Hoff
 man\, Interim Commissioner\, Department for Children and Families\n\nMeg
 an Smeaton\, Financial Director\, Department for Children and Families -
  Room 9
TZID:America/New_York
UID:20260125T061302Z-uidGen@richgoldman-357e73
END:VEVENT
BEGIN:VALARM
TRIGGER:-PT15M
ACTION:DISPLAY
DESCRIPTION:FY27 Budget\n\nDepartment for Children and Families\n\nSandi 
 Hoffman\, Interim Commissioner\, Department for Children and Families\n\
 nMegan Smeaton\, Financial Director\, Department for Children and Famili
 es - Room 9
END:VALARM
END:VCALENDAR
