BEGIN:VCALENDAR
CALSCALE:GREGORIAN
PRODID:-//Ben Fortuna//iCal4j 1.0//EN
VERSION:2.0
BEGIN:VEVENT
DTSTAMP:20260125T060514Z
DTSTART:20260128T143000
DTEND:20260128T163000
SUMMARY:Small and Sparsity Necessity Rules\n\nJennifer Samuelson\, Chair\
 , Vermont State Board of Education - Zoom\n\nTammy Kolbe\, Small Schools
  and Sparse Schools Standards Committee\, State Board of Education - Inv
 ited - Room 28
TZID:America/New_York
UID:20260125T061312Z-uidGen@richgoldman-357e73
END:VEVENT
BEGIN:VALARM
TRIGGER:-PT15M
ACTION:DISPLAY
DESCRIPTION:Small and Sparsity Necessity Rules\n\nJennifer Samuelson\, Ch
 air\, Vermont State Board of Education - Zoom\n\nTammy Kolbe\, Small Sch
 ools and Sparse Schools Standards Committee\, State Board of Education -
  Invited - Room 28
END:VALARM
END:VCALENDAR
