BEGIN:VCALENDAR
CALSCALE:GREGORIAN
PRODID:-//Ben Fortuna//iCal4j 1.0//EN
VERSION:2.0
BEGIN:VEVENT
DTSTAMP:20260126T230013Z
DTSTART:20260128T140000
DTEND:20260128T160000
SUMMARY:Security Training\n\nThis will not be livestreamed due to sensiti
 ve content\n\nAgatha Kessler\, Sergeant at Arms\, Vermont State House\n\
 nJohn Poleway\, Chief of Police\, Capitol Police Department\n\nSergeant 
 Sara Macera\, Capitol Police Department\n\nJoe Trombley\, Capitol Police
  Department\n\n" - Room 5
TZID:America/New_York
UID:20260126T230024Z-uidGen@richgoldman-357e73
END:VEVENT
BEGIN:VALARM
TRIGGER:-PT15M
ACTION:DISPLAY
DESCRIPTION:Security Training\n\nThis will not be livestreamed due to sen
 sitive content\n\nAgatha Kessler\, Sergeant at Arms\, Vermont State Hous
 e\n\nJohn Poleway\, Chief of Police\, Capitol Police Department\n\nSerge
 ant Sara Macera\, Capitol Police Department\n\nJoe Trombley\, Capitol Po
 lice Department\n\n" - Room 5
END:VALARM
END:VCALENDAR
