BEGIN:VCALENDAR
CALSCALE:GREGORIAN
PRODID:-//Ben Fortuna//iCal4j 1.0//EN
VERSION:2.0
BEGIN:VEVENT
DTSTAMP:20260126T200014Z
DTSTART:20260128T141500
DTEND:20260128T161500
SUMMARY:FY27 Budget\n\nDepartment of Finance and Management\, Governor's 
 Office\n\nAdam Greshin\, Commissioner\, Department of Finance and Manage
 ment\n\nHardy Merrill\, Deputy Commissioner\, Department of Finance and 
 Management - Room 9
TZID:America/New_York
UID:20260126T200047Z-uidGen@richgoldman-357e73
END:VEVENT
BEGIN:VALARM
TRIGGER:-PT15M
ACTION:DISPLAY
DESCRIPTION:FY27 Budget\n\nDepartment of Finance and Management\, Governo
 r's Office\n\nAdam Greshin\, Commissioner\, Department of Finance and Ma
 nagement\n\nHardy Merrill\, Deputy Commissioner\, Department of Finance 
 and Management - Room 9
END:VALARM
END:VCALENDAR
