BEGIN:VCALENDAR
CALSCALE:GREGORIAN
PRODID:-//Ben Fortuna//iCal4j 1.0//EN
VERSION:2.0
BEGIN:VEVENT
DTSTAMP:20260128T160014Z
DTSTART:20260128T141500
DTEND:20260128T161500
SUMMARY:FY27 Budget\n\nDepartment of Finance and Management\n\nAdam Gresh
 in\, Commissioner\, Department of Finance and Management\n\nHardy Merril
 l\, Deputy Commissioner\, Department of Finance and Management - Room 9
TZID:America/New_York
UID:20260128T160058Z-uidGen@richgoldman-357e73
END:VEVENT
BEGIN:VALARM
TRIGGER:-PT15M
ACTION:DISPLAY
DESCRIPTION:FY27 Budget\n\nDepartment of Finance and Management\n\nAdam G
 reshin\, Commissioner\, Department of Finance and Management\n\nHardy Me
 rrill\, Deputy Commissioner\, Department of Finance and Management - Roo
 m 9
END:VALARM
END:VCALENDAR
