BEGIN:VCALENDAR
CALSCALE:GREGORIAN
PRODID:-//Ben Fortuna//iCal4j 1.0//EN
VERSION:2.0
BEGIN:VEVENT
DTSTAMP:20260126T150030Z
DTSTART:20260128T140000
DTEND:20260128T160000
SUMMARY:FY27 Budget PCB Funding\n\nMatt Chapman\, Director\, Waste Manage
 ment & Prevention Division\, Department of Environmental Conservation\n\
 nTrish Coppolino\, Senior Environmental Program Manager\, Department of 
 Environmental Conservation\, Agency of Natural Resources - Room M103
TZID:America/New_York
UID:20260126T150040Z-uidGen@richgoldman-357e73
END:VEVENT
BEGIN:VALARM
TRIGGER:-PT15M
ACTION:DISPLAY
DESCRIPTION:FY27 Budget PCB Funding\n\nMatt Chapman\, Director\, Waste Ma
 nagement & Prevention Division\, Department of Environmental Conservatio
 n\n\nTrish Coppolino\, Senior Environmental Program Manager\, Department
  of Environmental Conservation\, Agency of Natural Resources - Room M103
 
END:VALARM
END:VCALENDAR
