BEGIN:VCALENDAR
CALSCALE:GREGORIAN
PRODID:-//Ben Fortuna//iCal4j 1.0//EN
VERSION:2.0
BEGIN:VEVENT
DTSTAMP:20260127T170014Z
DTSTART:20260128T134500
DTEND:20260128T154500
SUMMARY:S. 220 - An act relating to addressing education spending in fisc
 al years 2028 and 2029\n\nWitness Testimony\n\nJake Feldman\, Senior Fis
 cal Analyst\, Department of Taxes\n\nAustin Davis\, Director\, Governmen
 t Affairs\, Lake Champlain Regional Chamber of Commerce\n\nJeanne Albert
 \, Ph.D.\, Steering Committee Member\, Rural School Community Alliance\n
 \nJamie Kinnarney\, Superintendent\, White River Valley Supervisory Unio
 n\n\nAmy Spear\, Vermont Chamber President\, Vermont Chamber of Commerce
  - Room 6
TZID:America/New_York
UID:20260127T170048Z-uidGen@richgoldman-357e73
END:VEVENT
BEGIN:VALARM
TRIGGER:-PT15M
ACTION:DISPLAY
DESCRIPTION:S. 220 - An act relating to addressing education spending in 
 fiscal years 2028 and 2029\n\nWitness Testimony\n\nJake Feldman\, Senior
  Fiscal Analyst\, Department of Taxes\n\nAustin Davis\, Director\, Gover
 nment Affairs\, Lake Champlain Regional Chamber of Commerce\n\nJeanne Al
 bert\, Ph.D.\, Steering Committee Member\, Rural School Community Allian
 ce\n\nJamie Kinnarney\, Superintendent\, White River Valley Supervisory 
 Union\n\nAmy Spear\, Vermont Chamber President\, Vermont Chamber of Comm
 erce - Room 6
END:VALARM
END:VCALENDAR
