BEGIN:VCALENDAR
CALSCALE:GREGORIAN
PRODID:-//Ben Fortuna//iCal4j 1.0//EN
VERSION:2.0
BEGIN:VEVENT
DTSTAMP:20260123T200009Z
DTSTART:20260128T133000
DTEND:20260128T153000
SUMMARY: - Room M106
TZID:America/New_York
UID:20260123T200113Z-uidGen@richgoldman-357e73
END:VEVENT
BEGIN:VALARM
TRIGGER:-PT15M
ACTION:DISPLAY
DESCRIPTION: - Room M106
END:VALARM
END:VCALENDAR
