BEGIN:VCALENDAR
CALSCALE:GREGORIAN
PRODID:-//Ben Fortuna//iCal4j 1.0//EN
VERSION:2.0
BEGIN:VEVENT
DTSTAMP:20260127T170014Z
DTSTART:20260128T133000
DTEND:20260128T153000
SUMMARY:H. 588 - An act relating to professions and occupations regulated
  by the Office of Professional Regulation\n\nWitness testimony\n\nHeathe
 r Chadwick\, Massage Therapist\n\nHenri Bynx\, Ishtar Collective\n\nSadi
 e Fischesser\, Executive Director\, Vermont Society of CPA's - Room M106
 
TZID:America/New_York
UID:20260127T170046Z-uidGen@richgoldman-357e73
END:VEVENT
BEGIN:VALARM
TRIGGER:-PT15M
ACTION:DISPLAY
DESCRIPTION:H. 588 - An act relating to professions and occupations regul
 ated by the Office of Professional Regulation\n\nWitness testimony\n\nHe
 ather Chadwick\, Massage Therapist\n\nHenri Bynx\, Ishtar Collective\n\n
 Sadie Fischesser\, Executive Director\, Vermont Society of CPA's - Room 
 M106
END:VALARM
END:VCALENDAR
