BEGIN:VCALENDAR
CALSCALE:GREGORIAN
PRODID:-//Ben Fortuna//iCal4j 1.0//EN
VERSION:2.0
BEGIN:VEVENT
DTSTAMP:20260125T060514Z
DTSTART:20260128T133000
DTEND:20260128T153000
SUMMARY:S. 252 - An act relating to waiver of criminal history record fee
 s for certain DAIL volunteers\n\nIntroduction and walk-through\n\nSen. R
 ichard Westman\, Sponsor - Invited\n\nMichele Childs\, Team Lead Legisla
 tive Counsel\, Office of Legislative Counsel - Room 6
TZID:America/New_York
UID:20260125T061237Z-uidGen@richgoldman-357e73
END:VEVENT
BEGIN:VALARM
TRIGGER:-PT15M
ACTION:DISPLAY
DESCRIPTION:S. 252 - An act relating to waiver of criminal history record
  fees for certain DAIL volunteers\n\nIntroduction and walk-through\n\nSe
 n. Richard Westman\, Sponsor - Invited\n\nMichele Childs\, Team Lead Leg
 islative Counsel\, Office of Legislative Counsel - Room 6
END:VALARM
END:VCALENDAR
