BEGIN:VCALENDAR
CALSCALE:GREGORIAN
PRODID:-//Ben Fortuna//iCal4j 1.0//EN
VERSION:2.0
BEGIN:VEVENT
DTSTAMP:20260125T060514Z
DTSTART:20260128T131500
DTEND:20260128T151500
SUMMARY:Vermont Clean Water Initiative Report\n\nClaire Madden\, Clean Wa
 ter Initiative Program Tracking & Accounting Supervisor\, Department of 
 Environmental Conservation - Invited - Room EA
TZID:America/New_York
UID:20260125T061226Z-uidGen@richgoldman-357e73
END:VEVENT
BEGIN:VALARM
TRIGGER:-PT15M
ACTION:DISPLAY
DESCRIPTION:Vermont Clean Water Initiative Report\n\nClaire Madden\, Clea
 n Water Initiative Program Tracking & Accounting Supervisor\, Department
  of Environmental Conservation - Invited - Room EA
END:VALARM
END:VCALENDAR
