BEGIN:VCALENDAR
CALSCALE:GREGORIAN
PRODID:-//Ben Fortuna//iCal4j 1.0//EN
VERSION:2.0
BEGIN:VEVENT
DTSTAMP:20260125T060514Z
DTSTART:20260128T133000
DTEND:20260128T153000
SUMMARY:Excess Spending Adjustment\n\nJulia Richter\, Principal Fiscal An
 alyst\, Joint Fiscal Office - Room 28
TZID:America/New_York
UID:20260125T061235Z-uidGen@richgoldman-357e73
END:VEVENT
BEGIN:VALARM
TRIGGER:-PT15M
ACTION:DISPLAY
DESCRIPTION:Excess Spending Adjustment\n\nJulia Richter\, Principal Fisca
 l Analyst\, Joint Fiscal Office - Room 28
END:VALARM
END:VCALENDAR
