BEGIN:VCALENDAR
CALSCALE:GREGORIAN
PRODID:-//Ben Fortuna//iCal4j 1.0//EN
VERSION:2.0
BEGIN:VEVENT
DTSTAMP:20260128T180015Z
DTSTART:20260128T130000
DTEND:20260128T150000
SUMMARY:H. 541 - An act relating to interference with voters and election
  officials\n\nWitness Testimony\n\nTim Devlin\, Legislative Counsel\, Of
 fice of Legislative Counsel\n\nMatthew Valerio\, Defender General\, Defe
 nder General's Office\n\nKim McManus\, Legislative Attorney\, Department
  of State's Attorneys and Sheriffs\n\nLauren Hibbert\, Deputy Secretary 
 of State\, Secretary of State's Office - Zoom\n\nRyan Kane\, Deputy Soli
 citor General\, Attorney General's Office - Room 30
TZID:America/New_York
UID:20260128T180030Z-uidGen@richgoldman-357e73
END:VEVENT
BEGIN:VALARM
TRIGGER:-PT15M
ACTION:DISPLAY
DESCRIPTION:H. 541 - An act relating to interference with voters and elec
 tion officials\n\nWitness Testimony\n\nTim Devlin\, Legislative Counsel\
 , Office of Legislative Counsel\n\nMatthew Valerio\, Defender General\, 
 Defender General's Office\n\nKim McManus\, Legislative Attorney\, Depart
 ment of State's Attorneys and Sheriffs\n\nLauren Hibbert\, Deputy Secret
 ary of State\, Secretary of State's Office - Zoom\n\nRyan Kane\, Deputy 
 Solicitor General\, Attorney General's Office - Room 30
END:VALARM
END:VCALENDAR
