BEGIN:VCALENDAR
CALSCALE:GREGORIAN
PRODID:-//Ben Fortuna//iCal4j 1.0//EN
VERSION:2.0
BEGIN:VEVENT
DTSTAMP:20260126T200014Z
DTSTART:20260128T130000
DTEND:20260128T150000
SUMMARY:Vermont Retired State Employees Association (VRSEA)\n\nVRSEA Legi
 slative Day\, Request to amend the make-up of the Retired Employee Commi
 ttee on Insurance (RECI)\n\nShelley Martin\, President\, Vermont Retired
  State Employees Association - Room M106
TZID:America/New_York
UID:20260126T200041Z-uidGen@richgoldman-357e73
END:VEVENT
BEGIN:VALARM
TRIGGER:-PT15M
ACTION:DISPLAY
DESCRIPTION:Vermont Retired State Employees Association (VRSEA)\n\nVRSEA 
 Legislative Day\, Request to amend the make-up of the Retired Employee C
 ommittee on Insurance (RECI)\n\nShelley Martin\, President\, Vermont Ret
 ired State Employees Association - Room M106
END:VALARM
END:VCALENDAR
