BEGIN:VCALENDAR
CALSCALE:GREGORIAN
PRODID:-//Ben Fortuna//iCal4j 1.0//EN
VERSION:2.0
BEGIN:VEVENT
DTSTAMP:20260125T060514Z
DTSTART:20260128T130000
DTEND:20260128T150000
SUMMARY:FY27 Budget\n\nDepartment of Mental Health\n\nEmily Hawes\, Commi
 ssioner\, Department of Mental Health\n\nSamantha Sweet\, Deputy Commiss
 ioner\, Department of Mental Health\n\nStephanie Marshall\, Policy Direc
 tor\, Department of Mental Health\n\nTracy O'Connell\, Chief Financial O
 fficer\, Agency of Human Services - Room 9
TZID:America/New_York
UID:20260125T061147Z-uidGen@richgoldman-357e73
END:VEVENT
BEGIN:VALARM
TRIGGER:-PT15M
ACTION:DISPLAY
DESCRIPTION:FY27 Budget\n\nDepartment of Mental Health\n\nEmily Hawes\, C
 ommissioner\, Department of Mental Health\n\nSamantha Sweet\, Deputy Com
 missioner\, Department of Mental Health\n\nStephanie Marshall\, Policy D
 irector\, Department of Mental Health\n\nTracy O'Connell\, Chief Financi
 al Officer\, Agency of Human Services - Room 9
END:VALARM
END:VCALENDAR
