BEGIN:VCALENDAR
CALSCALE:GREGORIAN
PRODID:-//Ben Fortuna//iCal4j 1.0//EN
VERSION:2.0
BEGIN:VEVENT
DTSTAMP:20260125T060514Z
DTSTART:20260128T114500
DTEND:20260128T134500
SUMMARY:Final question and answers - Room 8
TZID:America/New_York
UID:20260125T061113Z-uidGen@richgoldman-357e73
END:VEVENT
BEGIN:VALARM
TRIGGER:-PT15M
ACTION:DISPLAY
DESCRIPTION:Final question and answers - Room 8
END:VALARM
END:VCALENDAR
