BEGIN:VCALENDAR
CALSCALE:GREGORIAN
PRODID:-//Ben Fortuna//iCal4j 1.0//EN
VERSION:2.0
BEGIN:VEVENT
DTSTAMP:20260125T060514Z
DTSTART:20260128T113000
DTEND:20260128T133000
SUMMARY:Vermont Housing and Conservation Board\n\nTechnical Advisory Comm
 ittee Update\n\nWitness TBA\, Technical Advisory Committee - Room EA
TZID:America/New_York
UID:20260125T061111Z-uidGen@richgoldman-357e73
END:VEVENT
BEGIN:VALARM
TRIGGER:-PT15M
ACTION:DISPLAY
DESCRIPTION:Vermont Housing and Conservation Board\n\nTechnical Advisory 
 Committee Update\n\nWitness TBA\, Technical Advisory Committee - Room EA
 
END:VALARM
END:VCALENDAR
