BEGIN:VCALENDAR
CALSCALE:GREGORIAN
PRODID:-//Ben Fortuna//iCal4j 1.0//EN
VERSION:2.0
BEGIN:VEVENT
DTSTAMP:20260125T060514Z
DTSTART:20260128T112500
DTEND:20260128T132500
SUMMARY:Larger-Scale Development Perspective\n\nZeke Davidson\, Summit Pr
 operties - Room 8
TZID:America/New_York
UID:20260125T061108Z-uidGen@richgoldman-357e73
END:VEVENT
BEGIN:VALARM
TRIGGER:-PT15M
ACTION:DISPLAY
DESCRIPTION:Larger-Scale Development Perspective\n\nZeke Davidson\, Summi
 t Properties - Room 8
END:VALARM
END:VCALENDAR
