BEGIN:VCALENDAR
CALSCALE:GREGORIAN
PRODID:-//Ben Fortuna//iCal4j 1.0//EN
VERSION:2.0
BEGIN:VEVENT
DTSTAMP:20260125T060514Z
DTSTART:20260128T110500
DTEND:20260128T130500
SUMMARY:Small-Scale and Infill Developer Perspective\n\nJonah Richard\, F
 ounder and Builder\, Village Ventures - Room 8
TZID:America/New_York
UID:20260125T061105Z-uidGen@richgoldman-357e73
END:VEVENT
BEGIN:VALARM
TRIGGER:-PT15M
ACTION:DISPLAY
DESCRIPTION:Small-Scale and Infill Developer Perspective\n\nJonah Richard
 \, Founder and Builder\, Village Ventures - Room 8
END:VALARM
END:VCALENDAR
