BEGIN:VCALENDAR
CALSCALE:GREGORIAN
PRODID:-//Ben Fortuna//iCal4j 1.0//EN
VERSION:2.0
BEGIN:VEVENT
DTSTAMP:20260125T060514Z
DTSTART:20260128T110000
DTEND:20260128T130000
SUMMARY:Field Trip\n\nAgency of Education Legislative Open House - Room M
 103
TZID:America/New_York
UID:20260125T061055Z-uidGen@richgoldman-357e73
END:VEVENT
BEGIN:VALARM
TRIGGER:-PT15M
ACTION:DISPLAY
DESCRIPTION:Field Trip\n\nAgency of Education Legislative Open House - Ro
 om M103
END:VALARM
END:VCALENDAR
