BEGIN:VCALENDAR
CALSCALE:GREGORIAN
PRODID:-//Ben Fortuna//iCal4j 1.0//EN
VERSION:2.0
BEGIN:VEVENT
DTSTAMP:20260125T060514Z
DTSTART:20260128T110000
DTEND:20260128T130000
SUMMARY:Alcohol Bill\n\nWitness testimony\n\nChris Kesler\, Vice Presiden
 t\, Distilled Spirits Council of Vermont\n\nMimi Buttenheim\, President\
 , Distilled Spirits Council of Vermont - Room M106
TZID:America/New_York
UID:20260125T061058Z-uidGen@richgoldman-357e73
END:VEVENT
BEGIN:VALARM
TRIGGER:-PT15M
ACTION:DISPLAY
DESCRIPTION:Alcohol Bill\n\nWitness testimony\n\nChris Kesler\, Vice Pres
 ident\, Distilled Spirits Council of Vermont\n\nMimi Buttenheim\, Presid
 ent\, Distilled Spirits Council of Vermont - Room M106
END:VALARM
END:VCALENDAR
