BEGIN:VCALENDAR
CALSCALE:GREGORIAN
PRODID:-//Ben Fortuna//iCal4j 1.0//EN
VERSION:2.0
BEGIN:VEVENT
DTSTAMP:20260127T190013Z
DTSTART:20260128T110000
DTEND:20260128T130000
SUMMARY:Alcohol Bill\n\nWitness testimony\n\nMimi Buttenheim\, President\
 , Distilled Spirits Council of Vermont\n\nTucker Anderson\, Legislative 
 Counsel\, Office of Legislative Counsel - Room M106
TZID:America/New_York
UID:20260127T190032Z-uidGen@richgoldman-357e73
END:VEVENT
BEGIN:VALARM
TRIGGER:-PT15M
ACTION:DISPLAY
DESCRIPTION:Alcohol Bill\n\nWitness testimony\n\nMimi Buttenheim\, Presid
 ent\, Distilled Spirits Council of Vermont\n\nTucker Anderson\, Legislat
 ive Counsel\, Office of Legislative Counsel - Room M106
END:VALARM
END:VCALENDAR
