BEGIN:VCALENDAR
CALSCALE:GREGORIAN
PRODID:-//Ben Fortuna//iCal4j 1.0//EN
VERSION:2.0
BEGIN:VEVENT
DTSTAMP:20260128T170014Z
DTSTART:20260128T105000
DTEND:20260128T125000
SUMMARY:Economic Development\n\nCommittee Discussion\n\nRik Sehgal\, Legi
 slative Counsel\, Office of Legislative Counsel\n\nJeremy Little\, Polic
 y and Outreach Associate\, Vermont Chamber of Commerce - Room 27
TZID:America/New_York
UID:20260128T170033Z-uidGen@richgoldman-357e73
END:VEVENT
BEGIN:VALARM
TRIGGER:-PT15M
ACTION:DISPLAY
DESCRIPTION:Economic Development\n\nCommittee Discussion\n\nRik Sehgal\, 
 Legislative Counsel\, Office of Legislative Counsel\n\nJeremy Little\, P
 olicy and Outreach Associate\, Vermont Chamber of Commerce - Room 27
END:VALARM
END:VCALENDAR
