BEGIN:VCALENDAR
CALSCALE:GREGORIAN
PRODID:-//Ben Fortuna//iCal4j 1.0//EN
VERSION:2.0
BEGIN:VEVENT
DTSTAMP:20260125T060514Z
DTSTART:20260128T104500
DTEND:20260128T124500
SUMMARY:Affordable Housing Perspective\n\nKathy Beyer\, Senior Vice Presi
 dent\, Real Estate Development\, Evernorth - Room 8
TZID:America/New_York
UID:20260125T061053Z-uidGen@richgoldman-357e73
END:VEVENT
BEGIN:VALARM
TRIGGER:-PT15M
ACTION:DISPLAY
DESCRIPTION:Affordable Housing Perspective\n\nKathy Beyer\, Senior Vice P
 resident\, Real Estate Development\, Evernorth - Room 8
END:VALARM
END:VCALENDAR
