BEGIN:VCALENDAR
CALSCALE:GREGORIAN
PRODID:-//Ben Fortuna//iCal4j 1.0//EN
VERSION:2.0
BEGIN:VEVENT
DTSTAMP:20260125T060514Z
DTSTART:20260128T103000
DTEND:20260128T123000
SUMMARY:Act 59\n\nVermont Housing and Conservation Board Program Update\n
 \nTrey Martin\, Director of Conservation and Rural Community Development
 \, Vermont Housing & Conservation Board\n\nAnnie Decker\, Associate Dire
 ctor of Resource Development & Resiliency\, Vermont Housing & Conservati
 on Board\n\nIsaac Bissell\, Conservation Stewardship Director\, Vermont 
 Housing & Conservation Board - Room EA
TZID:America/New_York
UID:20260125T061028Z-uidGen@richgoldman-357e73
END:VEVENT
BEGIN:VALARM
TRIGGER:-PT15M
ACTION:DISPLAY
DESCRIPTION:Act 59\n\nVermont Housing and Conservation Board Program Upda
 te\n\nTrey Martin\, Director of Conservation and Rural Community Develop
 ment\, Vermont Housing & Conservation Board\n\nAnnie Decker\, Associate 
 Director of Resource Development & Resiliency\, Vermont Housing & Conser
 vation Board\n\nIsaac Bissell\, Conservation Stewardship Director\, Verm
 ont Housing & Conservation Board - Room EA
END:VALARM
END:VCALENDAR
