BEGIN:VCALENDAR
CALSCALE:GREGORIAN
PRODID:-//Ben Fortuna//iCal4j 1.0//EN
VERSION:2.0
BEGIN:VEVENT
DTSTAMP:20260128T160014Z
DTSTART:20260128T103500
DTEND:20260128T123500
SUMMARY:FY27 Budget\n\nAHS Central Office\n\nJenney Samuelson\, Secretary
 \, Agency of Human Services\n\nTracy O'Connell\, Chief Financial Officer
 \, Agency of Human Services\n\nKristin McClure\, Deputy Secretary\, Agen
 cy of Human Services\n\nSandi Hoffman\, Interim Commissioner\, Departmen
 t for Children and Families\n\nJon Murad\, Interim Commissioner\, Depart
 ment of Corrections\n\nDr. Rick Hildebrant\, MD\, Commissioner\, Departm
 ent of Health\n\nEmily Hawes\, Commissioner\, Department of Mental Healt
 h\n\nDr. Jill Bowen\, Commissioner\, Department of Disabilities\, Aging 
 and Independent Living\n\nDaShawn Groves\, Commissioner\, Department of 
 Vermont Health Access (DVHA)\n\nJill Mazza Olson\, Medicaid and Health S
 ystems Director\, Agency of Human Services - Room 9
TZID:America/New_York
UID:20260128T160046Z-uidGen@richgoldman-357e73
END:VEVENT
BEGIN:VALARM
TRIGGER:-PT15M
ACTION:DISPLAY
DESCRIPTION:FY27 Budget\n\nAHS Central Office\n\nJenney Samuelson\, Secre
 tary\, Agency of Human Services\n\nTracy O'Connell\, Chief Financial Off
 icer\, Agency of Human Services\n\nKristin McClure\, Deputy Secretary\, 
 Agency of Human Services\n\nSandi Hoffman\, Interim Commissioner\, Depar
 tment for Children and Families\n\nJon Murad\, Interim Commissioner\, De
 partment of Corrections\n\nDr. Rick Hildebrant\, MD\, Commissioner\, Dep
 artment of Health\n\nEmily Hawes\, Commissioner\, Department of Mental H
 ealth\n\nDr. Jill Bowen\, Commissioner\, Department of Disabilities\, Ag
 ing and Independent Living\n\nDaShawn Groves\, Commissioner\, Department
  of Vermont Health Access (DVHA)\n\nJill Mazza Olson\, Medicaid and Heal
 th Systems Director\, Agency of Human Services - Room 9
END:VALARM
END:VCALENDAR
