BEGIN:VCALENDAR
CALSCALE:GREGORIAN
PRODID:-//Ben Fortuna//iCal4j 1.0//EN
VERSION:2.0
BEGIN:VEVENT
DTSTAMP:20260128T150030Z
DTSTART:20260128T103000
DTEND:20260128T123000
SUMMARY:H. 626 - An act relating to voyeurism and disclosure of sexually 
 explicit images without consent\n\nWitness Testimony Continued\n\nDetect
 ive Michael Studin\, Lieutenant\, Bureau of Criminal Investigation\, Ver
 mont State Police\n\nKim McManus\, Legislative Attorney\, Department of 
 State's Attorneys and Sheriffs\n\nMatthew Valerio\, Defender General\, D
 efender General's Office - Room 30
TZID:America/New_York
UID:20260128T150101Z-uidGen@richgoldman-357e73
END:VEVENT
BEGIN:VALARM
TRIGGER:-PT15M
ACTION:DISPLAY
DESCRIPTION:H. 626 - An act relating to voyeurism and disclosure of sexua
 lly explicit images without consent\n\nWitness Testimony Continued\n\nDe
 tective Michael Studin\, Lieutenant\, Bureau of Criminal Investigation\,
  Vermont State Police\n\nKim McManus\, Legislative Attorney\, Department
  of State's Attorneys and Sheriffs\n\nMatthew Valerio\, Defender General
 \, Defender General's Office - Room 30
END:VALARM
END:VCALENDAR
