BEGIN:VCALENDAR
CALSCALE:GREGORIAN
PRODID:-//Ben Fortuna//iCal4j 1.0//EN
VERSION:2.0
BEGIN:VEVENT
DTSTAMP:20260125T060514Z
DTSTART:20260128T103000
DTEND:20260128T123000
SUMMARY:Racial Disparities Advisory Panel Update\n\nXusana Davis\, Execut
 ive Director\, Office of Racial Equity - Room 1
TZID:America/New_York
UID:20260125T061045Z-uidGen@richgoldman-357e73
END:VEVENT
BEGIN:VALARM
TRIGGER:-PT15M
ACTION:DISPLAY
DESCRIPTION:Racial Disparities Advisory Panel Update\n\nXusana Davis\, Ex
 ecutive Director\, Office of Racial Equity - Room 1
END:VALARM
END:VCALENDAR
