BEGIN:VCALENDAR
CALSCALE:GREGORIAN
PRODID:-//Ben Fortuna//iCal4j 1.0//EN
VERSION:2.0
BEGIN:VEVENT
DTSTAMP:20260126T180014Z
DTSTART:20260128T103000
DTEND:20260128T123000
SUMMARY:FY27 Budget\n\nAHS Central Office\n\nJenney Samuelson\, Secretary
 \, Agency of Human Services\n\nKristin McClure\, Deputy Secretary\, Agen
 cy of Human Services\n\nJill Mazza Olson\, Medicaid and Health Systems D
 irector\, Agency of Human Services\n\nSandi Hoffman\, Interim Commission
 er\, Department for Children and Families\n\nJon Murad\, Interim Commiss
 ioner\, Department of Corrections\n\nDr. Rick Hildebrant\, MD\, Commissi
 oner\, Department of Health\n\nEmily Hawes\, Commissioner\, Department o
 f Mental Health\n\nDr. Jill Bowen\, Commissioner\, Department of Disabil
 ities\, Aging and Independent Living\n\nDaShawn Groves\, Commissioner\, 
 Department of Vermont Health Access (DVHA)\n\nTracy O'Connell\, Chief Fi
 nancial Officer\, Agency of Human Services - Room 9
TZID:America/New_York
UID:20260126T180030Z-uidGen@richgoldman-357e73
END:VEVENT
BEGIN:VALARM
TRIGGER:-PT15M
ACTION:DISPLAY
DESCRIPTION:FY27 Budget\n\nAHS Central Office\n\nJenney Samuelson\, Secre
 tary\, Agency of Human Services\n\nKristin McClure\, Deputy Secretary\, 
 Agency of Human Services\n\nJill Mazza Olson\, Medicaid and Health Syste
 ms Director\, Agency of Human Services\n\nSandi Hoffman\, Interim Commis
 sioner\, Department for Children and Families\n\nJon Murad\, Interim Com
 missioner\, Department of Corrections\n\nDr. Rick Hildebrant\, MD\, Comm
 issioner\, Department of Health\n\nEmily Hawes\, Commissioner\, Departme
 nt of Mental Health\n\nDr. Jill Bowen\, Commissioner\, Department of Dis
 abilities\, Aging and Independent Living\n\nDaShawn Groves\, Commissione
 r\, Department of Vermont Health Access (DVHA)\n\nTracy O'Connell\, Chie
 f Financial Officer\, Agency of Human Services - Room 9
END:VALARM
END:VCALENDAR
