BEGIN:VCALENDAR
CALSCALE:GREGORIAN
PRODID:-//Ben Fortuna//iCal4j 1.0//EN
VERSION:2.0
BEGIN:VEVENT
DTSTAMP:20260127T200014Z
DTSTART:20260128T102000
DTEND:20260128T122000
SUMMARY:H. 777 - An act relating to the Vermont Skier Development Scholar
 ship Fund and Scholarship Program\n\nIntroduction and walk-through\n\nRe
 p. Erin Brady\, Representative\, Bill Sponsor - Invited\n\nBeth St. Jame
 s\, Legislative Counsel\, Office of Legislative Counsel - Room M103
TZID:America/New_York
UID:20260127T200054Z-uidGen@richgoldman-357e73
END:VEVENT
BEGIN:VALARM
TRIGGER:-PT15M
ACTION:DISPLAY
DESCRIPTION:H. 777 - An act relating to the Vermont Skier Development Sch
 olarship Fund and Scholarship Program\n\nIntroduction and walk-through\n
 \nRep. Erin Brady\, Representative\, Bill Sponsor - Invited\n\nBeth St. 
 James\, Legislative Counsel\, Office of Legislative Counsel - Room M103
END:VALARM
END:VCALENDAR
