BEGIN:VCALENDAR
CALSCALE:GREGORIAN
PRODID:-//Ben Fortuna//iCal4j 1.0//EN
VERSION:2.0
BEGIN:VEVENT
DTSTAMP:20260128T170014Z
DTSTART:20260128T102000
DTEND:20260128T122000
SUMMARY:H. 626 - An act relating to voyeurism and disclosure of sexually 
 explicit images without consent\n\nWitness Testimony Continued\n\nDetect
 ive Michael Studin\, Lieutenant\, Bureau of Criminal Investigation\, Ver
 mont State Police\n\nMichele Childs\, Team Lead Legislative Counsel\, Of
 fice of Legislative Counsel\n\nMatthew Valerio\, Defender General\, Defe
 nder General's Office\n\nKim McManus\, Legislative Attorney\, Department
  of State's Attorneys and Sheriffs - Room 30
TZID:America/New_York
UID:20260128T170020Z-uidGen@richgoldman-357e73
END:VEVENT
BEGIN:VALARM
TRIGGER:-PT15M
ACTION:DISPLAY
DESCRIPTION:H. 626 - An act relating to voyeurism and disclosure of sexua
 lly explicit images without consent\n\nWitness Testimony Continued\n\nDe
 tective Michael Studin\, Lieutenant\, Bureau of Criminal Investigation\,
  Vermont State Police\n\nMichele Childs\, Team Lead Legislative Counsel\
 , Office of Legislative Counsel\n\nMatthew Valerio\, Defender General\, 
 Defender General's Office\n\nKim McManus\, Legislative Attorney\, Depart
 ment of State's Attorneys and Sheriffs - Room 30
END:VALARM
END:VCALENDAR
