BEGIN:VCALENDAR
CALSCALE:GREGORIAN
PRODID:-//Ben Fortuna//iCal4j 1.0//EN
VERSION:2.0
BEGIN:VEVENT
DTSTAMP:20260125T060514Z
DTSTART:20260128T102000
DTEND:20260128T122000
SUMMARY:Progress on the Ground\n\nChris Cochran\, Director of Community P
 lanning Revitalization\, Department of Housing and Community Development
 \n\nJeff Dube\, DHCB - Room 8
TZID:America/New_York
UID:20260125T061024Z-uidGen@richgoldman-357e73
END:VEVENT
BEGIN:VALARM
TRIGGER:-PT15M
ACTION:DISPLAY
DESCRIPTION:Progress on the Ground\n\nChris Cochran\, Director of Communi
 ty Planning Revitalization\, Department of Housing and Community Develop
 ment\n\nJeff Dube\, DHCB - Room 8
END:VALARM
END:VCALENDAR
