BEGIN:VCALENDAR
CALSCALE:GREGORIAN
PRODID:-//Ben Fortuna//iCal4j 1.0//EN
VERSION:2.0
BEGIN:VEVENT
DTSTAMP:20260128T160014Z
DTSTART:20260128T101500
DTEND:20260128T121500
SUMMARY:H. 672 - An act relating to distribution of malt beverages by lic
 ensed manufacturers\n\nWitness testimony\n\nJesse Cronin\, Member\, Verm
 ont Brewers Association\n\nDaren Orr\, Member\, Vermont Brewers Associat
 ion\n\nEmma Arian\, Executive Director\, Vermont Brewers Association - R
 oom M106
TZID:America/New_York
UID:20260128T160039Z-uidGen@richgoldman-357e73
END:VEVENT
BEGIN:VALARM
TRIGGER:-PT15M
ACTION:DISPLAY
DESCRIPTION:H. 672 - An act relating to distribution of malt beverages by
  licensed manufacturers\n\nWitness testimony\n\nJesse Cronin\, Member\, 
 Vermont Brewers Association\n\nDaren Orr\, Member\, Vermont Brewers Asso
 ciation\n\nEmma Arian\, Executive Director\, Vermont Brewers Association
  - Room M106
END:VALARM
END:VCALENDAR
