BEGIN:VCALENDAR
CALSCALE:GREGORIAN
PRODID:-//Ben Fortuna//iCal4j 1.0//EN
VERSION:2.0
BEGIN:VEVENT
DTSTAMP:20260127T200014Z
DTSTART:20260128T100000
DTEND:20260128T120000
SUMMARY:H. 779 - An act relating to updating the Flexible Pathways Initia
 tive\n\nIntroduction and walk-through\n\nRep. Ela Chapin\, Representativ
 e\, Bill Sponsor\n\nBeth St. James\, Legislative Counsel\, Office of Leg
 islative Counsel - Room M103
TZID:America/New_York
UID:20260127T200052Z-uidGen@richgoldman-357e73
END:VEVENT
BEGIN:VALARM
TRIGGER:-PT15M
ACTION:DISPLAY
DESCRIPTION:H. 779 - An act relating to updating the Flexible Pathways In
 itiative\n\nIntroduction and walk-through\n\nRep. Ela Chapin\, Represent
 ative\, Bill Sponsor\n\nBeth St. James\, Legislative Counsel\, Office of
  Legislative Counsel - Room M103
END:VALARM
END:VCALENDAR
