BEGIN:VCALENDAR
CALSCALE:GREGORIAN
PRODID:-//Ben Fortuna//iCal4j 1.0//EN
VERSION:2.0
BEGIN:VEVENT
DTSTAMP:20260125T060513Z
DTSTART:20260128T100000
DTEND:20260128T120000
SUMMARY:H. 655 - An act relating to alcoholic beverages and the Board of 
 Liquor and Lottery\n\nWitness testimony\n\nWendy Knight\, Commissioner\,
  Department of Liquor and Lottery - Room M106
TZID:America/New_York
UID:20260125T061009Z-uidGen@richgoldman-357e73
END:VEVENT
BEGIN:VALARM
TRIGGER:-PT15M
ACTION:DISPLAY
DESCRIPTION:H. 655 - An act relating to alcoholic beverages and the Board
  of Liquor and Lottery\n\nWitness testimony\n\nWendy Knight\, Commission
 er\, Department of Liquor and Lottery - Room M106
END:VALARM
END:VCALENDAR
