BEGIN:VCALENDAR
CALSCALE:GREGORIAN
PRODID:-//Ben Fortuna//iCal4j 1.0//EN
VERSION:2.0
BEGIN:VEVENT
DTSTAMP:20260125T060514Z
DTSTART:20260128T153100
DTEND:20260128T173100
SUMMARY:Committee Discussion - Room 34
TZID:America/New_York
UID:20260125T061357Z-uidGen@richgoldman-357e73
END:VEVENT
BEGIN:VALARM
TRIGGER:-PT15M
ACTION:DISPLAY
DESCRIPTION:Committee Discussion - Room 34
END:VALARM
END:VCALENDAR
