BEGIN:VCALENDAR
CALSCALE:GREGORIAN
PRODID:-//Ben Fortuna//iCal4j 1.0//EN
VERSION:2.0
BEGIN:VEVENT
DTSTAMP:20260125T060513Z
DTSTART:20260128T095000
DTEND:20260128T115000
SUMMARY:Local Government Perspective\n\nJesse Baker\, City Manager\, Sout
 h Burlington\n\nPaul Connor\, Director of Planning\, South Burlington - 
 Room 8
TZID:America/New_York
UID:20260125T061000Z-uidGen@richgoldman-357e73
END:VEVENT
BEGIN:VALARM
TRIGGER:-PT15M
ACTION:DISPLAY
DESCRIPTION:Local Government Perspective\n\nJesse Baker\, City Manager\, 
 South Burlington\n\nPaul Connor\, Director of Planning\, South Burlingto
 n - Room 8
END:VALARM
END:VCALENDAR
