BEGIN:VCALENDAR
CALSCALE:GREGORIAN
PRODID:-//Ben Fortuna//iCal4j 1.0//EN
VERSION:2.0
BEGIN:VEVENT
DTSTAMP:20260126T000350Z
DTSTART:20260128T095000
DTEND:20260128T115000
SUMMARY:Local Government Perspective\n\nPaul Connor\, Director of Plannin
 g\, South Burlington - Room 8
TZID:America/New_York
UID:20260126T000352Z-uidGen@richgoldman-357e73
END:VEVENT
BEGIN:VALARM
TRIGGER:-PT15M
ACTION:DISPLAY
DESCRIPTION:Local Government Perspective\n\nPaul Connor\, Director of Pla
 nning\, South Burlington - Room 8
END:VALARM
END:VCALENDAR
